BEGIN:VCALENDAR
VERSION:2.0
PRODID:-//Circle of Wine Writers - ECPv6.3.5//NONSGML v1.0//EN
CALSCALE:GREGORIAN
METHOD:PUBLISH
X-WR-CALNAME:Circle of Wine Writers
X-ORIGINAL-URL:https://www.circleofwinewriters.org
X-WR-CALDESC:Events for Circle of Wine Writers
REFRESH-INTERVAL;VALUE=DURATION:PT1H
X-Robots-Tag:noindex
X-PUBLISHED-TTL:PT1H
BEGIN:VTIMEZONE
TZID:Europe/London
BEGIN:DAYLIGHT
TZOFFSETFROM:+0000
TZOFFSETTO:+0100
TZNAME:BST
DTSTART:20220327T010000
END:DAYLIGHT
BEGIN:STANDARD
TZOFFSETFROM:+0100
TZOFFSETTO:+0000
TZNAME:GMT
DTSTART:20221030T010000
END:STANDARD
END:VTIMEZONE
BEGIN:VEVENT
DTSTART;TZID=Europe/London:20220304T140000
DTEND;TZID=Europe/London:20220304T150000
DTSTAMP:20260421T053214
CREATED:20220126T122827Z
LAST-MODIFIED:20220221T110551Z
UID:49383-1646402400-1646406000@www.circleofwinewriters.org
SUMMARY:CWW - Let's talk about Not-so-Sauvignon Sauvignon blancs
DESCRIPTION:For the first of the Circle’s March webinars\, we’re delighted to welcome Matt Day\, winemaker from South Africa’s oldest-established wine estate\, Klein Constantia\, who will reveal all about the somewhat enigmatic title of his presentation. \nMatt’s main aim will be to highlight how Sauvignon Blanc\, when well made\, is truly one of the noble wine grapes. Let him explain: ‘I will chat about the old and the new and how times are changing and the trends that people are following. And hopefully by the end I will have confused everyone enough to think that Sauvignon blanc is actually something to be taken seriously and isn’t just a tooty-fruity cultivar’.  \nHe will also discuss the uniqueness of South Africa’s icon sweet wine Vin de Constance\, with a focus on the future rather than the past. \nDo join us on the 4th.
URL:https://www.circleofwinewriters.org/event/cww-lets-talk-about-session-with-matthew-day-of-klein-constantia/
ATTACH;FMTTYPE=image/jpeg:https://www.circleofwinewriters.org/wp-content/uploads/2022/01/calendarofeventsMatthew-Day.jpg
ORGANIZER;CN="Circle of Wine Writers":MAILTO:administrator@circleofwinewriters.org
END:VEVENT
BEGIN:VEVENT
DTSTART;TZID=Europe/London:20220310T103000
DTEND;TZID=Europe/London:20220310T170000
DTSTAMP:20260421T053214
CREATED:20220131T132705Z
LAST-MODIFIED:20220131T132705Z
UID:49390-1646908200-1646931600@www.circleofwinewriters.org
SUMMARY:Occitanie Annual Trade Tasting for Trade & Press
DESCRIPTION:10th anniversary Occitanie Annual Trade Tasting brings organic wines and innovation from South of France to London \nThe Occitanie Annual Trade Tasting returns to celebrate its 10th edition [after three years away] to present the diverse wines from the south of France in a brand new London venue. Twenty producers and three importers will show how much has been steadily progressing in the world of Occitanie winemaking and will feature over 300 chosen wines from the largest wine producing region in the world. This year’s line-up focuses on innovation\, organic and sustainable production. Visiting producers will show new wines not yet available in the UK\, and importers will show latest vintages. Masterclasses by Occitanie expert Matthew Stubbs MW will put into context the strong and distinctive appeal of these wines for the UK market\, from entry level to top end. UK wine professionals\, including importers\, retailers\, sommeliers\, journalists\, wine merchants and agents are welcome to register now: https://suddefrance.co.uk/annualtasting2022/ \nProducers and winemakers coming from the Languedoc\, Roussillon\, South-West and the Rhône Valley include well-established co-operatives and negociants\, as well as artisanal producers looking for distribution. The sunny South of France mood is reflected by the bright and airy top floor venue\, The View at The Royal College of Surgeons of England\, 38-43 Lincoln’s Inn Fields\, London WC2A 3PE (Holborn tube). \nIsabelle Kanaan\, Executive Director for the Bureau de la Région Occitanie in London\, comments\, “Our 2022 calendar of events will resume and will present a fresh year of initiatives. We\, our producers and importers very much look forward to meeting and supporting the wine trade as consumer business picks up again. There are opportunities to discover the progress and experimentation that has been going on quietly in the region\, and our Occitanie Annual Trade Tasting will be an essential diary date to discover all the latest happenings directly from the producers.”
URL:https://www.circleofwinewriters.org/event/occitanie-annual-trade-tasting-for-trade-press/
LOCATION:The View\, Royal College of Surgeons of England\,\, 38-43 Lincoln’s Inn Fields\,\, London\, WC2A 3PE
ATTACH;FMTTYPE=image/jpeg:https://www.circleofwinewriters.org/wp-content/uploads/2022/01/calendarofeventsAOC-Fitou-credit-Fabien-Laine.jpg
ORGANIZER;CN="Su-Lin Ong":MAILTO:sulinong@slo-london.co.uk
END:VEVENT
BEGIN:VEVENT
DTSTART;TZID=Europe/London:20220311T093000
DTEND;TZID=Europe/London:20220311T103000
DTSTAMP:20260421T053214
CREATED:20220221T105801Z
LAST-MODIFIED:20220221T105801Z
UID:49682-1646991000-1646994600@www.circleofwinewriters.org
SUMMARY:CWW - Let's talk about Yarra Valley
DESCRIPTION:For the second of the Circle’s March webinars\, our presenter will be dynamic winemaker Mac Forbes\, who will talk about Yarra Valley’s distinctive sub-regions\, his passion for making thrilling cool-climate wines\, and how he’s blazing new trails. \nThe Yarra Valley is one of Australia’s leading cool-climate regions\, with varying elevations and a diverse landscape capable of producing many different wine styles across a range of varieties. Known as the birthplace of Victoria’s wine industry\, its history stretches back to 1838\, but it wasn’t until the 1970s that it really started to shine thanks to a second wave of winemaking pioneers. \nMac will describe the Yarra Valley’s unique landscape and his mission to create wines with freshness and personality\, challenging convention and constantly experimenting. He will share his insights and stories\, as well as reveal some of his exciting upcoming projects. \nDo join us on the 11th\, please note the earlier time of this webinar.
URL:https://www.circleofwinewriters.org/event/cww-lets-talk-about-yarra-valley/
ATTACH;FMTTYPE=image/jpeg:https://www.circleofwinewriters.org/wp-content/uploads/2022/02/calendarofeventsMacForbes.jpg
ORGANIZER;CN="Circle of Wine Writers":MAILTO:administrator@circleofwinewriters.org
END:VEVENT
BEGIN:VEVENT
DTSTART;TZID=Europe/London:20220314T140000
DTEND;TZID=Europe/London:20220314T190000
DTSTAMP:20260421T053214
CREATED:20220309T142530Z
LAST-MODIFIED:20220309T142530Z
UID:49755-1647266400-1647284400@www.circleofwinewriters.org
SUMMARY:The Essential Guide to Italian Wine 2022 - launch by Daniele Cernilli
DESCRIPTION:One of Italy’s most prominent and celebrated wine experts\, with a knowledge of Italian wine second to none\, Daniele Cernilli aka DoctorWine will be in London personally to launch the 2022 edition of The Essential Guide to Italian Wine. \nRSVP m.thompson@doctorwine.it \n 
URL:https://www.circleofwinewriters.org/event/the-essential-guide-to-italian-wine-2022-launch-by-daniele-cernilli/
LOCATION:The Dilly\, 21 Piccadilly\, london\, W1N 0BH
ATTACH;FMTTYPE=image/jpeg:https://www.circleofwinewriters.org/wp-content/uploads/2022/03/calendarofeventsBannerLondontrebic2020BMT.jpg
ORGANIZER;CN="DoctorWine":MAILTO:m.thompson@doctorwine.it
END:VEVENT
BEGIN:VEVENT
DTSTART;TZID=Europe/London:20220316T100000
DTEND;TZID=Europe/London:20220316T130000
DTSTAMP:20260421T053214
CREATED:20220227T144911Z
LAST-MODIFIED:20220227T144911Z
UID:49743-1647424800-1647435600@www.circleofwinewriters.org
SUMMARY:DO Rueda Update - tasting
DESCRIPTION:You are invited to join the DO Rueda on the 16th March\, from 10am-1pm\, for a tasting of a variety of delicious Rueda wines and a quick update on what has been going on in the region. We will be doing a special focus on the new Gran Vino de Rueda wines\, for interest. \nA delicious selection of fresh verdejos and sauvignon blancs\, sur lie and rich barrel fermented whites will be on taste throughout the morning on the 16th March for you to try. Find out about the latest developments in the region and try some great small plates to match with each style of wine. \nPlease join us to find out more about Spain’s number one selling white wine.\nRSVP to charlotte@bespokedrinksmedia.com \nwww.tasterueda.uk \n@DORuedaUK
URL:https://www.circleofwinewriters.org/event/do-rueda-update-tasting/
LOCATION:2850 restaurant\, 96 Draycott Avenue\, South Kensington\, London\, SW3 3AD
ATTACH;FMTTYPE=image/jpeg:https://www.circleofwinewriters.org/wp-content/uploads/2022/02/Rueda.jpg
ORGANIZER;CN="Bespoke Drinks Media":MAILTO:charlotte@bespokedrinksmedia.com
END:VEVENT
BEGIN:VEVENT
DTSTART;TZID=Europe/London:20220324T100000
DTEND;TZID=Europe/London:20220324T110000
DTSTAMP:20260421T053214
CREATED:20220222T100216Z
LAST-MODIFIED:20220222T100216Z
UID:49699-1648116000-1648119600@www.circleofwinewriters.org
SUMMARY:Wine Australia - Unearthing Coonawarra Cabernet
DESCRIPTION:Coonawarra is a small region with a big reputation. Famous for its vivid red soil and age-worthy red wines\, Coonawarra makes some of the world’s purest Cabernet Sauvignon. \nThis narrow stretch of land on South Australia’s Limestone Coast\, halfway between Adelaide and Melbourne\, has 5\,600 hectares of vineyards\, with 62% devoted to Cabernet Sauvignon. \nIn a conversation hosted by Corrina Wright\, Chief of Judges at The Limestone Coast Wine Show\, four winemakers discuss what makes Coonawarra the perfect spot for producing elegant\, complex Cabernet Sauvignon. \nHear the story of Coonawarra from its winemakers – a story that speaks of their world-renowned wines\, natural landscape and terroir\, vibrant and engaging community\, and commitment to sustainable viticulture. \nFind out how the region is influenced by the ocean\, why its terra rossa soil is so valuable\, and how the wines differ from the rest of Australia and the world. \nJoin this Conversation to unearth Coonawarra and discover why Cabernet Sauvignon is the region’s undisputed star. \nFor more information and to sign up\, please visit https://conversations.australianwine.com/wine-australia/Unearthing-Coonawarra-Cabernet
URL:https://www.circleofwinewriters.org/event/wine-australia-unearthing-coonawarra-cabernet/
LOCATION:Wine Australia
ATTACH;FMTTYPE=image/jpeg:https://www.circleofwinewriters.org/wp-content/uploads/2018/06/calendarofeventsUK_Convo_CoonawarraCab_BM-Replay.jpg
ORGANIZER;CN="Wine Australia":MAILTO:Emma.Baumann@wineaustralia.com
END:VEVENT
BEGIN:VEVENT
DTSTART;TZID=Europe/London:20220331T103000
DTEND;TZID=Europe/London:20220331T180000
DTSTAMP:20260421T053214
CREATED:20220211T101335Z
LAST-MODIFIED:20220211T101335Z
UID:49626-1648722600-1648749600@www.circleofwinewriters.org
SUMMARY:Wines of Chile Trade Tasting 2022
DESCRIPTION:This year’s Wines of Chile Trade tasting is your opportunity to taste wines from the latest vintage\, wines that are new to the market\, and explore the different regions of Chile. \nFor further details and to register\, visit https://www.eventbrite.co.uk/e/265855620317
URL:https://www.circleofwinewriters.org/event/wines-of-chile-trade-tasting-2022/
LOCATION:The Lindley Hall\, 80 Vincent Street\, London\, SW1P 2PE
ATTACH;FMTTYPE=image/jpeg:https://www.circleofwinewriters.org/wp-content/uploads/2022/02/calendarofeventsWinesofChile.jpg
ORGANIZER;CN="Wines of Chile":MAILTO:info@winesofchile.org.uk
END:VEVENT
END:VCALENDAR