BEGIN:VCALENDAR
VERSION:2.0
PRODID:-//Circle of Wine Writers - ECPv6.3.5//NONSGML v1.0//EN
CALSCALE:GREGORIAN
METHOD:PUBLISH
X-ORIGINAL-URL:https://www.circleofwinewriters.org
X-WR-CALDESC:Events for Circle of Wine Writers
REFRESH-INTERVAL;VALUE=DURATION:PT1H
X-Robots-Tag:noindex
X-PUBLISHED-TTL:PT1H
BEGIN:VTIMEZONE
TZID:Europe/London
BEGIN:DAYLIGHT
TZOFFSETFROM:+0000
TZOFFSETTO:+0100
TZNAME:BST
DTSTART:20220327T010000
END:DAYLIGHT
BEGIN:STANDARD
TZOFFSETFROM:+0100
TZOFFSETTO:+0000
TZNAME:GMT
DTSTART:20221030T010000
END:STANDARD
END:VTIMEZONE
BEGIN:VEVENT
DTSTART;TZID=Europe/London:20220613T110000
DTEND;TZID=Europe/London:20220613T140000
DTSTAMP:20260421T012423
CREATED:20220606T092855Z
LAST-MODIFIED:20220606T092855Z
UID:50079-1655118000-1655128800@www.circleofwinewriters.org
SUMMARY:Glenelly Estate Tutored Tasting - last few spaces left
DESCRIPTION:We hope that you can join us for the launch of the new Lady May 2016 vintage and a tutored vertical tasting of Lady May Library Vintages 2010\, 2011\, 2012\, 2013\, 2014 & 2015. \nGlenelly Estate’s flagship Lady May wine is crafted from a cool east-facing slope at the foothills of the Simonsberg mountains in Stellenbosch\, using Cabernet Sauvignon\, Cabernet Franc\, Merlot and Petit Verdot from the best sites of a single vineyard. \nBuffet lunch available. \nRSVP – emma@ew-pr.co.uk
URL:https://www.circleofwinewriters.org/event/glenelly-estate-tutored-tasting-last-few-spaces-left/
LOCATION:China Exchange\, 32A Gerrard Street\, London\, W1D 6JA
ATTACH;FMTTYPE=image/jpeg:https://www.circleofwinewriters.org/wp-content/uploads/2022/06/calendarofeventsGlennelly.jpg
ORGANIZER;CN="Emma Wellings PR":MAILTO:emma@ew-pr.co.uk
END:VEVENT
END:VCALENDAR