BEGIN:VCALENDAR
VERSION:2.0
PRODID:-//Circle of Wine Writers - ECPv6.3.5//NONSGML v1.0//EN
CALSCALE:GREGORIAN
METHOD:PUBLISH
X-ORIGINAL-URL:https://www.circleofwinewriters.org
X-WR-CALDESC:Events for Circle of Wine Writers
REFRESH-INTERVAL;VALUE=DURATION:PT1H
X-Robots-Tag:noindex
X-PUBLISHED-TTL:PT1H
BEGIN:VTIMEZONE
TZID:Europe/London
BEGIN:DAYLIGHT
TZOFFSETFROM:+0000
TZOFFSETTO:+0100
TZNAME:BST
DTSTART:20220327T010000
END:DAYLIGHT
BEGIN:STANDARD
TZOFFSETFROM:+0100
TZOFFSETTO:+0000
TZNAME:GMT
DTSTART:20221030T010000
END:STANDARD
END:VTIMEZONE
BEGIN:VEVENT
DTSTART;TZID=Europe/London:20221004T100000
DTEND;TZID=Europe/London:20221004T170000
DTSTAMP:20260420T174531
CREATED:20220822T104823Z
LAST-MODIFIED:20220822T104823Z
UID:50455-1664877600-1664902800@www.circleofwinewriters.org
SUMMARY:GCF's Private Wine Days
DESCRIPTION:Come and join us for GCF’s Private Wine Days – the ultimate portfolio event 4 & 5 October. Register here: https://GCFPrivateWineDaysOctober2022.eventbrite.co.uk \n 
URL:https://www.circleofwinewriters.org/event/gcfs-private-wine-days/
LOCATION:10 York Road\, 16th Floor\, London\, SE1 7ND
ATTACH;FMTTYPE=image/jpeg:https://www.circleofwinewriters.org/wp-content/uploads/2022/08/calendarofeventsPrivate-Wine-Days-The-Ultimate-Portfolio-Event-Save-The-Date-Final-2.jpg
ORGANIZER;CN="Eviva Communications":MAILTO:emma@eviva.co.uk
END:VEVENT
BEGIN:VEVENT
DTSTART;TZID=Europe/London:20221005T100000
DTEND;TZID=Europe/London:20221005T170000
DTSTAMP:20260420T174531
CREATED:20220822T105326Z
LAST-MODIFIED:20220822T105326Z
UID:50463-1664964000-1664989200@www.circleofwinewriters.org
SUMMARY:GCF's Private Wine Days
DESCRIPTION:Come and join us for GCF’s Private Wine Days – the ultimate portfolio event 4 & 5 October. Register here: https://GCFPrivateWineDaysOctober2022.eventbrite.co.uk \n 
URL:https://www.circleofwinewriters.org/event/gcfs-private-wine-days-2/
LOCATION:10 York Road\, 16th Floor\, London\, SE1 7ND
ATTACH;FMTTYPE=image/jpeg:https://www.circleofwinewriters.org/wp-content/uploads/2022/08/calendarofeventsPrivate-Wine-Days-The-Ultimate-Portfolio-Event-Save-The-Date-Final-2.jpg
ORGANIZER;CN="Eviva Communications":MAILTO:emma@eviva.co.uk
END:VEVENT
BEGIN:VEVENT
DTSTART;TZID=Europe/London:20221017T100000
DTEND;TZID=Europe/London:20221017T113000
DTSTAMP:20260420T174531
CREATED:20220916T104434Z
LAST-MODIFIED:20220916T104434Z
UID:50783-1666000800-1666006200@www.circleofwinewriters.org
SUMMARY:South Australia: Leading sustainability down under
DESCRIPTION:South Australia is the historic heart of Australian wine\, home to famous regions\, heritage estates\, multi-generational winemaking families and old vines. The state is also a leader in sustainable wine production\, with wineries focused on water and energy management\, reducing their carbon footprint and conserving the environment. \nJoin us for a fascinating conversation on sustainability in South Australia\, with wineries that are accredited by Sustainable Winegrowing Australia. Hear from winemakers and viticulturists from McLaren Vale – the most environmentally sustainable grape growing region in Australia – as well as the Barossa Valley\, Coonawarra\, Clare Valley and Riverland. \nIn a conversation with Jane Masters MW\, winemakers and viticulturists from Gemtree Wines\, Hither & Yon\, Wakefield Wines\, Torbreck\, Wynns Coonawarra Estate and Thistledown Wines will talk about sustainable practices across their business. From irrigation practices and canopy management\, alternative grape varieties and cover crops\, to alternative and innovative packaging\, find out what they’re doing and what impact it is having. \nThis webinar is free and open to all. You’re welcome to share details with colleagues and wine friends. \nFor more information about the session and the speakers\, and to register\, please visit https://conversations.australianwine.com/wine-australia/SA-DTI-Sustainability-virtual-tasting
URL:https://www.circleofwinewriters.org/event/south-australia-leading-sustainability-down-under/
ATTACH;FMTTYPE=image/jpeg:https://www.circleofwinewriters.org/wp-content/uploads/2022/09/calendarofeventsWineAustraliaUK_Convo_SA-DTI-Sustainability_Carousel-e1663324953388.jpg
ORGANIZER;CN="Wine Australia":MAILTO:Emma.Baumann@wineaustralia.com
END:VEVENT
BEGIN:VEVENT
DTSTART;TZID=Europe/London:20221021T123000
DTEND;TZID=Europe/London:20221021T160000
DTSTAMP:20260420T174531
CREATED:20220907T110627Z
LAST-MODIFIED:20221020T090006Z
UID:50725-1666355400-1666368000@www.circleofwinewriters.org
SUMMARY:Wines of Chile Update - 21 October 2022
DESCRIPTION:Wines of Chile invite you to a ‘Chile Update’ masterclass hosted by Amanda Barnes award winning author of The South American Wine Guide\, this event is specifically for press or educators. \nWhere: 67 Pall Mall\, London\, SW1Y 5ES\nWhen: 21st October 2022\nTasting opens:  12:30 – 16:00 pm\nMasterclass: 13:30 – 15:00pm \nAs Christmas approaches this is the perfect opportunity for Wines of Chile to provide you with an overview of what is happening in the Chilean wine scene. The wines on tasting will provide a snapshot of Chilean regionality\, innovations\, new releases and new vintages. \nAmanda has selected twelve wines to taste during the masterclass\, New Wave Whites\, Mediterranean Reds & Evolving Icons. Each of the winemakers will join Amanda (via Zoom) to discuss their wines giving a fascinating and anecdotal update from Chile. \nBefore and after the masterclass there will be a free pour tasting to compliment Amanda’s update.\nYou can register your attendance to the tasting or to both the masterclass and tasting via the link below:\nhttps://www.eventbrite.co.uk/e/432487149707 \nWe look forward to seeing you on the 21st \nThe Wines of Chile UK Team
URL:https://www.circleofwinewriters.org/event/cww-lets-taste-wines-of-chile/
LOCATION:tbc\, London
ATTACH;FMTTYPE=image/png:https://www.circleofwinewriters.org/wp-content/uploads/2022/06/Wines-of-Chile.png
ORGANIZER;CN="Wines of Chile":MAILTO:info@winesofchile.org.uk
END:VEVENT
BEGIN:VEVENT
DTSTART;TZID=Europe/London:20221021T140000
DTEND;TZID=Europe/London:20221021T150000
DTSTAMP:20260420T174531
CREATED:20220907T111909Z
LAST-MODIFIED:20220907T111909Z
UID:50729-1666360800-1666364400@www.circleofwinewriters.org
SUMMARY:CWW - Let's talk about the rise of Montalcino with Count Francesco Marone Cinzano
DESCRIPTION:For this October Circle webinar\, we’re delighted to welcome Count Francesco Marone Cinzano who is in charge of one of Tuscany’s large organic wineries with a total of 147 hectares of vineyards of which 102 ha are exclusively planted to Brunello di  Montalcino producing 250\,000 bottles of Brunello and the same number of Rosso di Montalcino\, the ‘younger brother’ of Brunello. \nPlease join us to find out how the wines of this small region have achieved global success on the 21st\, more details to follow.
URL:https://www.circleofwinewriters.org/event/cww-lets-talk-about-the-rise-of-montalcino-with-count-francesco-marone-cinzano/
ATTACH;FMTTYPE=image/jpeg:https://www.circleofwinewriters.org/wp-content/uploads/2022/09/calendarofeventsMontalcino-Francesco-ColdOrcia-e1662549398218.jpg
ORGANIZER;CN="Circle of Wine Writers":MAILTO:administrator@circleofwinewriters.org
END:VEVENT
END:VCALENDAR