BEGIN:VCALENDAR
VERSION:2.0
PRODID:-//Circle of Wine Writers - ECPv6.3.5//NONSGML v1.0//EN
CALSCALE:GREGORIAN
METHOD:PUBLISH
X-ORIGINAL-URL:https://www.circleofwinewriters.org
X-WR-CALDESC:Events for Circle of Wine Writers
REFRESH-INTERVAL;VALUE=DURATION:PT1H
X-Robots-Tag:noindex
X-PUBLISHED-TTL:PT1H
BEGIN:VTIMEZONE
TZID:Europe/London
BEGIN:DAYLIGHT
TZOFFSETFROM:+0000
TZOFFSETTO:+0100
TZNAME:BST
DTSTART:20220327T010000
END:DAYLIGHT
BEGIN:STANDARD
TZOFFSETFROM:+0100
TZOFFSETTO:+0000
TZNAME:GMT
DTSTART:20221030T010000
END:STANDARD
END:VTIMEZONE
BEGIN:VEVENT
DTSTART;TZID=Europe/London:20221214T180000
DTEND;TZID=Europe/London:20221214T200000
DTSTAMP:20260420T144930
CREATED:20221128T112810Z
LAST-MODIFIED:20221128T112810Z
UID:51190-1671040800-1671048000@www.circleofwinewriters.org
SUMMARY:Whisky Cask Investment: Building Wealth Through Whisky Casks - book launch
DESCRIPTION:Spink & Braeburn Whisky are proud to celebrate their first co-publication\, authored by Fiona Rintoul\, and with photography by Konrad Borkowski. Join us for a whisky tasting\, chance to meet the author\, and learn more about the captivating world of whisky cask investment.
URL:https://www.circleofwinewriters.org/event/whisky-cask-investment-building-wealth-through-whisky-casks-book-launch/
LOCATION:Spink\, 69\, Southampton Row\, London\, WC1B 4ET\, United Kingdom
ATTACH;FMTTYPE=image/jpeg:https://www.circleofwinewriters.org/wp-content/uploads/2022/11/dekantaBookLaunchInvitation14-Dec-e1669634784991.jpg
ORGANIZER;CN="dekanta":MAILTO:miriam@dekanta.com
END:VEVENT
END:VCALENDAR