BEGIN:VCALENDAR
VERSION:2.0
PRODID:-//Circle of Wine Writers - ECPv6.3.5//NONSGML v1.0//EN
CALSCALE:GREGORIAN
METHOD:PUBLISH
X-ORIGINAL-URL:https://www.circleofwinewriters.org
X-WR-CALDESC:Events for Circle of Wine Writers
REFRESH-INTERVAL;VALUE=DURATION:PT1H
X-Robots-Tag:noindex
X-PUBLISHED-TTL:PT1H
BEGIN:VTIMEZONE
TZID:Europe/London
BEGIN:DAYLIGHT
TZOFFSETFROM:+0000
TZOFFSETTO:+0100
TZNAME:BST
DTSTART:20230326T010000
END:DAYLIGHT
BEGIN:STANDARD
TZOFFSETFROM:+0100
TZOFFSETTO:+0000
TZNAME:GMT
DTSTART:20231029T010000
END:STANDARD
END:VTIMEZONE
BEGIN:VEVENT
DTSTART;TZID=Europe/London:20230120T140000
DTEND;TZID=Europe/London:20230120T150000
DTSTAMP:20260420T132613
CREATED:20221223T110951Z
LAST-MODIFIED:20221223T110951Z
UID:51317-1674223200-1674226800@www.circleofwinewriters.org
SUMMARY:Let’s talk about Old Vines: Why Now Is Their Time
DESCRIPTION:The Old Vine Conference is galvanising a global movement to nurture and value great old vines and their wines. Alun Griffiths MW will share his insight on old vines and why now is their time\, he will update us on the traction this global movement its making around the world and the work that the non-profit he co-founded with fellow Master of Wine\, Sarah Abbott\, and Leo Austin is doing to contribute towards the socio-economical viability of creating an old vine category. Alun will be joined by The Old Vine Conference Regional Ambassadors and Circle members Michèle Shah and Amanda Barnes who will share the value\, the threats\, inspiring projects and opportunities held for old vines in their specialist regions of Italy and South America.
URL:https://www.circleofwinewriters.org/event/lets-talk-about-old-vines-why-now-is-their-time/
ATTACH;FMTTYPE=image/jpeg:https://www.circleofwinewriters.org/wp-content/uploads/2022/12/OldVineConfThe_logo_HR.jpg
END:VEVENT
BEGIN:VEVENT
DTSTART;TZID=Europe/London:20230125T100000
DTEND;TZID=Europe/London:20230125T160000
DTSTAMP:20260420T132613
CREATED:20221221T120806Z
LAST-MODIFIED:20230106T123746Z
UID:51307-1674640800-1674662400@www.circleofwinewriters.org
SUMMARY:34th annual Louis Latour Agencies Tasting
DESCRIPTION:This year’s masterclasses (limited places) \n11am: Vidal-Fleury Masterclass with Antoine Dupré\nMeet Antoine Dupré on his first visit to the UK as Vidal-Fleury’s new winemaker for a tasting tour of the Rhône Valley and a look at the 2021 vintage. Antoine will discuss his working philosophy and highlight developments to the range and Vidal-Fleury’s wine style since he took over. \n2pm: Cognac Frapin Masterclass with Thomas Soret\nThomas will be joined by tea specialist Jameel Lalani founder of Lalani & Co in a talk and tasting which pairs Frapin’s single estate cognacs with teas from the Huang family garden in Taiwan. They will explore the similarities in philosophy\, production and history of these two iconic drinks. \nStill wines: Louis Latour\, Simonnet-Febvre\, Vidal-Fleury\, Michel Redde\, Château Sainte Roseline\, Château des Demoiselles\, Banfi\, Morgenhof Estate\, Isonto\, McHenry Hohnen\, Wakefield Wines\, Pyramid Valley\, Smith & Sheth\, Smith & Co and Viu Manent.\nSparkling wines & spirits: Champagne Gosset\, Simonnet-Febvre\, Cognac Frapin and Cobalte Vodka. \nRegister at\nhttps://www.eventbrite.co.uk/e/34th-annual-louis-latour-agencies-tasting-tickets-471191896647 \nThe closest stations are Farringdon\, City Thameslink\, Barbican\, St Pauls.\nFurther information: marketing@louislatour.co.uk
URL:https://www.circleofwinewriters.org/event/34th-annual-louis-latour-agencies-tasting/
LOCATION:The Haberdashers’ Hall\, 18 W Smithfield\, London\, EC1A 9HQ
ATTACH;FMTTYPE=image/jpeg:https://www.circleofwinewriters.org/wp-content/uploads/2022/12/calendarofeventsLouisLatour-e1673008597815.jpg
ORGANIZER;CN="Louis Latour Agencies":MAILTO:marketing@louislatour.co.uk
END:VEVENT
BEGIN:VEVENT
DTSTART;TZID=Europe/London:20230127T140000
DTEND;TZID=Europe/London:20230127T150000
DTSTAMP:20260420T132613
CREATED:20221223T110545Z
LAST-MODIFIED:20221223T110545Z
UID:51320-1674828000-1674831600@www.circleofwinewriters.org
SUMMARY:Let’s talk about Survivor Wines
DESCRIPTION:Friday 27 January – 2.00pm (GMT) Pierre Wahl\, cellar master of Survivor Wines\, South Africa. His wines epitomise his country’s heritage and the talk will be an appropriate follow-up to the previous week’s presentation. “This is what makes Survivor Wines so special\, we get to choose distinctive grapes from the most expressive terroirs from several of South Africa’s best wine-producing regions\,” says Pierre. \n 
URL:https://www.circleofwinewriters.org/event/lets-talk-about-survivor-wines/
ATTACH;FMTTYPE=image/png:https://www.circleofwinewriters.org/wp-content/uploads/2017/07/Screen-Shot-2017-07-14-at-18.35.45-e1500053738434.png
END:VEVENT
END:VCALENDAR