BEGIN:VCALENDAR
VERSION:2.0
PRODID:-//Circle of Wine Writers - ECPv6.3.5//NONSGML v1.0//EN
CALSCALE:GREGORIAN
METHOD:PUBLISH
X-ORIGINAL-URL:https://www.circleofwinewriters.org
X-WR-CALDESC:Events for Circle of Wine Writers
REFRESH-INTERVAL;VALUE=DURATION:PT1H
X-Robots-Tag:noindex
X-PUBLISHED-TTL:PT1H
BEGIN:VTIMEZONE
TZID:Europe/London
BEGIN:DAYLIGHT
TZOFFSETFROM:+0000
TZOFFSETTO:+0100
TZNAME:BST
DTSTART:20230326T010000
END:DAYLIGHT
BEGIN:STANDARD
TZOFFSETFROM:+0100
TZOFFSETTO:+0000
TZNAME:GMT
DTSTART:20231029T010000
END:STANDARD
END:VTIMEZONE
BEGIN:VEVENT
DTSTART;VALUE=DATE:20230227
DTEND;VALUE=DATE:20230302
DTSTAMP:20260420T102611
CREATED:20221223T120044Z
LAST-MODIFIED:20221223T123157Z
UID:51334-1677456000-1677715199@www.circleofwinewriters.org
SUMMARY:VINS D’ALSACE LAUNCH 2ND EDITION OF  THE MILLÉSIMES ALSACE DIGITASTING®
DESCRIPTION:Vins d’Alsace launch the 2nd edition of the Millésimes Alsace Digitasting®  following the successful 2021 world premiere. \nTrade show exclusively for professionals. \nTo register free of charge for the trade show (27TH\, 28TH FEBRUARY AND 1ST MARCH 2023) or to order your tasting boxes from now until 9 January 2023 please follow the following link:  www.millesimes-alsace.com \n  \n 
URL:https://www.circleofwinewriters.org/event/vins-dalsace-launch-2nd-edition-of-the-millesimes-alsace-digitasting/
ATTACH;FMTTYPE=image/jpeg:https://www.circleofwinewriters.org/wp-content/uploads/2022/12/22EWAlsace.jpg
ORGANIZER;CN="Emma Wellings PR":MAILTO:emma@ew-pr.co.uk
END:VEVENT
BEGIN:VEVENT
DTSTART;TZID=Europe/London:20230303T140000
DTEND;TZID=Europe/London:20230303T150000
DTSTAMP:20260420T102611
CREATED:20221223T112311Z
LAST-MODIFIED:20221223T113342Z
UID:51328-1677852000-1677855600@www.circleofwinewriters.org
SUMMARY:Let’s talk about Wines of Georgia with Sarah Abbott MW
DESCRIPTION:The wines of Georgia have been a source of interest to our members for a number of years. Join Sarah who will be providing an update on the latest developments and key producers.
URL:https://www.circleofwinewriters.org/event/lets-talk-about-wines-of-georgia-with-sarah-abbott-mw/
ATTACH;FMTTYPE=image/png:https://www.circleofwinewriters.org/wp-content/uploads/2017/07/Screen-Shot-2017-07-14-at-18.35.45-e1500053738434.png
END:VEVENT
BEGIN:VEVENT
DTSTART;TZID=Europe/London:20230307T103000
DTEND;TZID=Europe/London:20230307T163000
DTSTAMP:20260420T102611
CREATED:20230227T125805Z
LAST-MODIFIED:20230227T125805Z
UID:51878-1678185000-1678206600@www.circleofwinewriters.org
SUMMARY:The first UK trade tasting & masterclass of wines from Denomination of Origin Toro
DESCRIPTION:The first UK trade tasting & masterclass of wines from Denomination of Origin Toro – where native grape variety Tinta de Toro stands out. \nSpain is one of today’s most exciting winemaking countries and Toro is at the forefront of innovation. \nToro is famed for its inky black\, richly textured red wines made from the native Tinta de Toro grape variety – a unique expression of Tempranillo from an exciting region. \nTop Toro producers create outstanding wines; full-bodied\, structured and with enormous ageing potential\, from this unique terroir. And they will be coming together for the first time in the UK to show their very best wines. \nJoin us to discover these wonderful wines\, taken by Christopher Columbus on his voyage of discovery to the Americas. \nDO Toro First Showcase Tasting \nTwenty outstanding wine producers will be showing their very best wines\, a variety of styles from DO Toro’s diverse geographical sub zones – the Tierra del Vino\, Valle del Guareña\, Tierra de Toro and Tierra del Pan & Tierra de Campos. \nTaste some fabulous wines matched with great food from the region. Sarah Jane Evans MW will lead a tasting on award-winning wines from DO Toro – the very best wines tasted never before in the UK in a DO Toro Masterclass* \nRegister here: D.O. Toro UK Trade Tasting & Masterclass Tickets\, Tue 7 Mar 2023 at 10:30 | Eventbrite \n*Right of admission reserved
URL:https://www.circleofwinewriters.org/event/the-first-uk-trade-tasting-masterclass-of-wines-from-denomination-of-origin-toro/
LOCATION:1 Great George St\, London\, SW1P 3AA
ATTACH;FMTTYPE=image/jpeg:https://www.circleofwinewriters.org/wp-content/uploads/2023/02/calendarofeventstintadtoro-scaled-e1677502214264.jpg
ORGANIZER;CN="Bespoke Drinks Media":MAILTO:charlotte@bespokedrinksmedia.com
END:VEVENT
BEGIN:VEVENT
DTSTART;VALUE=DATE:20230312
DTEND;VALUE=DATE:20230314
DTSTAMP:20260420T102611
CREATED:20230227T114450Z
LAST-MODIFIED:20230227T115149Z
UID:51868-1678579200-1678751999@www.circleofwinewriters.org
SUMMARY:RAW WINE Paris
DESCRIPTION:RAW WINE is holding a two day wine fair in Paris\, for the first time\, this March with 156 natural wine growers in attendance. RAW WINE represents the world’s largest global network of low-intervention organic\, biodynamic and natural wines\, their growers & makers\, and this will mark their 31st in-person fair. \n“RAW WINE is a celebration of some of the best wine talent in the world\,” says organiser Isabelle Legeron MW. “Our growers all produce natural\, or low-intervention organic and biodynamic wines\, all with few\, if any additives in the cellar. They are pure\, kind to the planet\, and probably better for your health. RAW WINE advocates transparency — it is about truth\, authenticity and frank wine talking\, but most of all it’s about showcasing really good\, terroir-driven wine.” \nFor more information and tickets visit: https://www.rawwine.com/fairs/paris-2023 \nIf you wish to attend please email email paola@rawwine.com to be issued with a press pass.
URL:https://www.circleofwinewriters.org/event/raw-wine-paris/
LOCATION:Espace Clacquesin\, 18 avenue du Maréchal Leclerc\, 92240 Malakoff\, Paris
ATTACH;FMTTYPE=image/jpeg:https://www.circleofwinewriters.org/wp-content/uploads/2023/02/calendarofeventsRawwine-2023-Fairs-Homepage-1-e1677498622277.jpeg
ORGANIZER;CN="RAW WINE":MAILTO:paola@rawwine.com
END:VEVENT
BEGIN:VEVENT
DTSTART;TZID=Europe/London:20230313T110000
DTEND;TZID=Europe/London:20230313T170000
DTSTAMP:20260420T102611
CREATED:20230105T115719Z
LAST-MODIFIED:20230105T115719Z
UID:51439-1678705200-1678726800@www.circleofwinewriters.org
SUMMARY:Wines from Spain Annual Tasting
DESCRIPTION:Leeds – Monday 13 March\, 11am – 5pm\, Ibérica Restaurant\nIf you are based in Yorkshire or the north of England\, a special Wines from Spain tasting event will be held in Leeds on 13 March 2023. Ibérica restaurant will provide the perfect setting for a discovery tasting featuring exciting flights\, themed tastings and expert-led masterclasses. \nRegistration will open in January. \nFor more information please email: winesfromspain@otaria.co.uk \nDigital webinars running in February and March will provide insights into the Spanish wine category. These online sessions will be free for the UK trade and press to access. \n\n 
URL:https://www.circleofwinewriters.org/event/wines-from-spain-annual-tasting-2/
LOCATION:Ibérica Restaurant\, Hepper House\, 17a E Parade\, Leeds\, LS1 2BH
ATTACH;FMTTYPE=image/png:https://www.circleofwinewriters.org/wp-content/uploads/2023/01/calendarofeventsWinesFrom-Spain-e1672919415818.png
ORGANIZER;CN="Otaria Communications":MAILTO:celine@otaria.co.uk
END:VEVENT
BEGIN:VEVENT
DTSTART;TZID=Europe/London:20230317T140000
DTEND;TZID=Europe/London:20230317T150000
DTSTAMP:20260420T102611
CREATED:20230313T102521Z
LAST-MODIFIED:20230313T102521Z
UID:51915-1679061600-1679065200@www.circleofwinewriters.org
SUMMARY:Let's talk about... The science of wine preservation\, with Greg Lambrecht of Coravin
DESCRIPTION:Let’s talk about… The science of wine preservation\, with Greg Lambrecht\, inventor and founder of Coravin \nFriday 17th March at 2pm GMT\nThis discussion will range through the factors impacting wine preservation\, including production methods\, storage\, filling and sealing\, shipping\, storing and serving. Coravin is the innovative preservation system that uses a non-coring needle to pass through the cork while it’s still in the bottle\, allowing small amounts of wine to be poured without damage to what remains – an invaluable aid particularly for wine professionals needing to taste multiple wines. \nAs the inventor and founder of Coravin\, Greg will focus in depth on preservation techniques. He is uniquely placed to explain the technology\, the result of a convergence of his passion for wine with engineering degrees and a successful career in medical technologies. \nJoin Zoom Meeting\nhttps://us06web.zoom.us/j/86736909085?pwd=RzlDd3AxMzlZbTk5ODlvdjQva3Bzdz09 \nMeeting ID: 867 3690 9085\nPasscode: 343425
URL:https://www.circleofwinewriters.org/event/lets-talk-about-the-science-of-wine-preservation-with-greg-lambrecht-of-coravin/
ATTACH;FMTTYPE=image/jpeg:https://www.circleofwinewriters.org/wp-content/uploads/2023/03/CORAVIN_Black_Logo.jpg
ORGANIZER;CN="Circle of Wine Writers":MAILTO:administrator@circleofwinewriters.org
END:VEVENT
BEGIN:VEVENT
DTSTART;TZID=Europe/London:20230322T100000
DTEND;TZID=Europe/London:20230322T160000
DTSTAMP:20260420T102611
CREATED:20230120T152723Z
LAST-MODIFIED:20230127T123959Z
UID:51519-1679479200-1679500800@www.circleofwinewriters.org
SUMMARY:New South Wales Wine Trade Tasting - "The Birthplace of Australian Wine"
DESCRIPTION:52 wines\, 13 exciting producers and 6 regions.  \nFrom the rogue to the refined\, the old to the new\, the cool climate to maritime\, taste through the wine regions of NSW. Producers already in market and others seeking distribution.  \nRegional masterclasses on the Hunter Valley\, the Orange region and ‘The Path Less Trodden’ – producers experimenting with new varieties & styles.  \nMasterclass seats limited.   \n11.00-11.40am Masterclass 1: ‘The Path Less Trodden’\nSome NSW wine regions recently started to turn heads. These new areas are early in their journey and still experimenting with grape varieties and wine styles to find their true calling. \n1pm-1.40pm Masterclass 2: ‘Hunter Valley Semillon & Chardonnay’\nHunter Valley Semillon is otherworldly and unquestionably unique. Grown on the alluvial flats surrounding the Hunter River\, Semillon from this region is almost unfathomably ageworthy. \n3.15-3.55pm Masterclass 3: ‘Hunter Valley Shiraz’\nA place where the soil dates back 280 million years\, and the Shiraz vines are among the oldest on the planet. There’s a personality to the famously silken Hunter Valley Shiraz. \nStrictly trade and press. You’re welcome to share details with trade & press colleagues. \nPlease register on: https://form.jotform.com/EvivaComm/22-march-2023-nsw-uk-trade-tasting
URL:https://www.circleofwinewriters.org/event/new-south-wales-wine-trade-tasting/
LOCATION:67\, Pall Mall\, St James’s Room\, London\, SW1Y 5ES
ATTACH;FMTTYPE=image/jpeg:https://www.circleofwinewriters.org/wp-content/uploads/2023/01/calendarofeventsNSWvinesbyalake-e1674224737288.jpg
ORGANIZER;CN="Eviva Communications":MAILTO:emma@eviva.co.uk
END:VEVENT
END:VCALENDAR