BEGIN:VCALENDAR
VERSION:2.0
PRODID:-//Circle of Wine Writers - ECPv6.3.5//NONSGML v1.0//EN
CALSCALE:GREGORIAN
METHOD:PUBLISH
X-ORIGINAL-URL:https://www.circleofwinewriters.org
X-WR-CALDESC:Events for Circle of Wine Writers
REFRESH-INTERVAL;VALUE=DURATION:PT1H
X-Robots-Tag:noindex
X-PUBLISHED-TTL:PT1H
BEGIN:VTIMEZONE
TZID:Europe/London
BEGIN:DAYLIGHT
TZOFFSETFROM:+0000
TZOFFSETTO:+0100
TZNAME:BST
DTSTART:20230326T010000
END:DAYLIGHT
BEGIN:STANDARD
TZOFFSETFROM:+0100
TZOFFSETTO:+0000
TZNAME:GMT
DTSTART:20231029T010000
END:STANDARD
END:VTIMEZONE
BEGIN:VEVENT
DTSTART;TZID=Europe/London:20230414T093000
DTEND;TZID=Europe/London:20230414T103000
DTSTAMP:20260420T084710
CREATED:20230327T120115Z
LAST-MODIFIED:20230327T120115Z
UID:51934-1681464600-1681468200@www.circleofwinewriters.org
SUMMARY:Let's talk about... Terroir and technology - A Guarantee of Origin\, with Alastair Maling MW
DESCRIPTION:Let’s talk about… Terroir and technology – A Guarantee of Origin\, with Alastair Maling MW \nPlease note early-morning timing\nJoin Alastair Maling MW\, from Oritain\, to explore how forensically verified technology can guarantee the origin of a wine down to vineyard parcels that may only be a hundred metres apart.  This tecnhology also plays a role in verifying the origin of wines at any time in their life or at any point in the supply chain. \nAlastair\, one of the first Masters of Wine in New Zealand\, will be well known to many members for his former head winemaker roles at Villa Maria Estate and Foley Wines. As part of his current winemaking consulting business he is an advisor to Oritain\, a company specialising in traceability\, authenticity and provenance. \nLearn from him what it might mean for the world of wine when Terroir meets Technology. For an introduction to what’s to come\, see www.oritain.com \nTo hear about this remarkable development please log in on Friday 14th April at 9.30am BST (this timing is necessary as Alastair will be presenting from New Zealand). The session\, including Q&As\, will last for approximately one hour. To join\, follow the link below. Guests will be very welcome\, but please let Andrea know their names. \nJoin Zoom Meeting\nhttps://us06web.zoom.us/j/84926467025?pwd=WmdsZDQrT3FzK28xT244V1hGTE5lZz09 \nMeeting ID: 849 2646 7025\nPasscode: 503975
URL:https://www.circleofwinewriters.org/event/lets-talk-about-terroir-and-technology-a-guarantee-of-origin-with-alastair-maling-mw/
ATTACH;FMTTYPE=image/jpeg:https://www.circleofwinewriters.org/wp-content/uploads/2023/03/Alastair-Maling-MW.jpg
ORGANIZER;CN="Circle of Wine Writers":MAILTO:administrator@circleofwinewriters.org
END:VEVENT
BEGIN:VEVENT
DTSTART;TZID=Europe/London:20230425T100000
DTEND;TZID=Europe/London:20230425T110000
DTSTAMP:20260420T084710
CREATED:20230327T125559Z
LAST-MODIFIED:20230327T130844Z
UID:51953-1682416800-1682420400@www.circleofwinewriters.org
SUMMARY:Lets Taste..... The biological ageing of sherry\, with Bodegas Hidalgo-la-Gitana
DESCRIPTION:Welcome to the Circle’s third Let’s taste… of 2023 \nWidely regarded as the definitive manzanilla house\, Bodegas Hidalgo la Gitana was established in the coastal Andalusian town of Sanlúcar de Barrameda by the Hidalgo family in the late 18th century and is one of the few remaining family-owned bodegas.\nThe tasting will be led by Fermín Hidalgo\, one of the eighth generation running the sherry house\, and will include six samples of different sherry styles\, to understand their biological ageing. \nFermín Hidalgo will explore what makes sherry so special and versatile\, sharing knowledge passed down over generations\, taking you through the history\, the unique production processes to create the individual sherry styles\, the power of oxidation\, the mysteries of the flor\, the art of the solera and the influence of the area around the beautiful town of Sanlucar de Barrameda. \nThe sherries to be tasted will be:\nLas 30 del Cuadrado\nLa Gitana\nLa Gitana En Rama\nPasada Pastrana Manzanilla\nAmontillado Napoleon\nPalo Cortado Wellington VOS \nAs with our previous ‘Let’s taste…’ seminars there will be a minimal charge of £10 to each CWW member wishing to take part with samples (£15 to non-members) to cover our administrative costs. For UK-based members 20 sample packs are available; unfortunately samples cannot be sent outside the UK. \nFull details will be sent out by email. \nZoom Meeting link details to follow.
URL:https://www.circleofwinewriters.org/event/lets-taste-the-biological-ageing-of-sherry-with-bodegas-hidalgo-la-gitana/
ATTACH;FMTTYPE=image/jpeg:https://www.circleofwinewriters.org/wp-content/uploads/2023/03/FerminHidalgo2-e1679921485179.jpg
END:VEVENT
BEGIN:VEVENT
DTSTART;TZID=Europe/London:20230428T140000
DTEND;TZID=Europe/London:20230428T150000
DTSTAMP:20260420T084710
CREATED:20230327T121349Z
LAST-MODIFIED:20230327T121459Z
UID:51937-1682690400-1682694000@www.circleofwinewriters.org
SUMMARY:Let's talk about... Tenuta di Arceno with Lawrence Cronin and Pepe Schib Graciano
DESCRIPTION:Let’s talk about… Tenuta di Arceno with Lawrence Cronin and Pepe Schib Graciano \nWe do you hope you join us and please watch this space for more details which will be posted when we have them. \n 
URL:https://www.circleofwinewriters.org/event/lets-talk-about-tenuta-di-arceno-with-lawrence-cronin-and-pepe-schib-graciano/
ATTACH;FMTTYPE=image/png:https://www.circleofwinewriters.org/wp-content/uploads/2017/07/Screen-Shot-2017-07-14-at-18.35.45-e1500053738434.png
ORGANIZER;CN="Circle of Wine Writers":MAILTO:administrator@circleofwinewriters.org
END:VEVENT
END:VCALENDAR