BEGIN:VCALENDAR
VERSION:2.0
PRODID:-//Circle of Wine Writers - ECPv6.3.5//NONSGML v1.0//EN
CALSCALE:GREGORIAN
METHOD:PUBLISH
X-ORIGINAL-URL:https://www.circleofwinewriters.org
X-WR-CALDESC:Events for Circle of Wine Writers
REFRESH-INTERVAL;VALUE=DURATION:PT1H
X-Robots-Tag:noindex
X-PUBLISHED-TTL:PT1H
BEGIN:VTIMEZONE
TZID:Europe/London
BEGIN:DAYLIGHT
TZOFFSETFROM:+0000
TZOFFSETTO:+0100
TZNAME:BST
DTSTART:20230326T010000
END:DAYLIGHT
BEGIN:STANDARD
TZOFFSETFROM:+0100
TZOFFSETTO:+0000
TZNAME:GMT
DTSTART:20231029T010000
END:STANDARD
END:VTIMEZONE
BEGIN:VEVENT
DTSTART;TZID=Europe/London:20230707T140000
DTEND;TZID=Europe/London:20230707T150000
DTSTAMP:20260420T023658
CREATED:20230503T122910Z
LAST-MODIFIED:20230503T122944Z
UID:52139-1688738400-1688742000@www.circleofwinewriters.org
SUMMARY:Let's talk about... Crémant and charmat in the Loire Valley\, and reviving an ancient grape variety
DESCRIPTION:Let’s talk about… Crémant and charmat in the Loire Valley\, and reviving an ancient grape variety \nLearn about intriguing initiatives from leading sparkling wine house Ackerman. Confirmation and more information shortly. \nPlease note the timing of 2-3pm BST (TBC)
URL:https://www.circleofwinewriters.org/event/lets-talk-about-cremant-and-charmat-in-the-loire-valley-and-reviving-an-ancient-grape-variety/
ATTACH;FMTTYPE=image/png:https://www.circleofwinewriters.org/wp-content/uploads/2017/07/Screen-Shot-2017-07-14-at-18.35.45-e1500053738434.png
ORGANIZER;CN="Circle of Wine Writers":MAILTO:administrator@circleofwinewriters.org
END:VEVENT
BEGIN:VEVENT
DTSTART;TZID=Europe/London:20230711T120000
DTEND;TZID=Europe/London:20230711T140000
DTSTAMP:20260420T023658
CREATED:20230503T115116Z
LAST-MODIFIED:20230503T115156Z
UID:52118-1689076800-1689084000@www.circleofwinewriters.org
SUMMARY:Sabina Ibiza lunch
DESCRIPTION:Ecologically inspired Sabina Ibiza welcomes Crurated and 16 attendees to their five-star clubhouse for a delicious lunch-time experience. Food will be served from restaurant La Paloma and guests will meet the producers and taste wines from Domaine Vincent Dancer and Domaine Pierre Girardin. \nPlease contact the organisers for availability\, they will reserve up to two seats at each event for the press and therefore they are subject to availability. \nAlso\, timings are approximate. \n 
URL:https://www.circleofwinewriters.org/event/sabina-ibiza-lunch/
LOCATION:Sabina\, Sabina Calle Motril s/n Calle Motril\, Urbanización Montecarlos\, Balearic Islands\, s/n\, 07829 Sant Agustí des Vedrà\, Spain
ORGANIZER;CN="Crurated Ltd":MAILTO:michaelvolpatt@gmail.com
END:VEVENT
BEGIN:VEVENT
DTSTART;TZID=Europe/London:20230711T143000
DTEND;TZID=Europe/London:20230711T170000
DTSTAMP:20260420T023658
CREATED:20230623T094638Z
LAST-MODIFIED:20230623T094638Z
UID:52269-1689085800-1689094800@www.circleofwinewriters.org
SUMMARY:Kedem Europe wine tasting (trade)
DESCRIPTION:Kedem Europe\, a London-based importer and distributor of specialty wines and spirits are offering complimentary invitations to their afternoon trade tasting (they have a public tasting in the evening – Kosher Food & Wine Experience / KFWE). \nThe event will be showcasing hundreds of different wines and dozens of different wineries from all across the wine producing world (France\, Spain\, USA\, Israel\, South Africa\, New Zealand\, etc.) as well as some distilled spirits and liqueurs. \nMore information can be found here: https://www.kfwelondon.com/ \nPlease contact Joshua London direct for further details.
URL:https://www.circleofwinewriters.org/event/kedem-europe-wine-tasting-trade/
LOCATION:Sheraton Grand Hotel\, 1 Festival Square\, Edinburgh\, EH3 9SR
ATTACH;FMTTYPE=image/jpeg:https://www.circleofwinewriters.org/wp-content/uploads/2023/06/KFWE-London-e1687347143542.jpg
ORGANIZER;CN="Josh London":MAILTO:joshua@angloisraelassociation.com
END:VEVENT
BEGIN:VEVENT
DTSTART;TZID=Europe/London:20230712T180000
DTEND;TZID=Europe/London:20230712T210000
DTSTAMP:20260420T023658
CREATED:20230623T094050Z
LAST-MODIFIED:20230623T094050Z
UID:52264-1689184800-1689195600@www.circleofwinewriters.org
SUMMARY:Anglo Israel Association Wine Tasting
DESCRIPTION:Joshua London and The Anglo-Israel Association (UK registered charity No 313523) invites you to a private Israeli wine tasting reception.  \nThe Anglo-Israel Association Wine Tasting Reception will be celebrating Israel 75 with Israeli Wines with presentations to run from 7-8 pm\, followed by more canapes and wine tasting.  \nThey will be tasting some of the very best Israel wines with Bruce Anderson\, noted Drinks Critic for The Spectator\, along with Eli Ben-Zaken winemaker of Domaine du Castel and Etti Edri of Yatir Winery.   \nPlease contact Josh direct for further details.
URL:https://www.circleofwinewriters.org/event/anglo-israel-association-wine-tasting/
LOCATION:Royal Automobile Club\, 89 Pall Mall\, London\, SW1Y 5HS
ATTACH;FMTTYPE=image/jpeg:https://www.circleofwinewriters.org/wp-content/uploads/2023/06/AngloIsraeliAssoc.jpg
ORGANIZER;CN="Josh London":MAILTO:joshua@angloisraelassociation.com
END:VEVENT
BEGIN:VEVENT
DTSTART;TZID=Europe/London:20230721T140000
DTEND;TZID=Europe/London:20230721T150000
DTSTAMP:20260420T023658
CREATED:20230327T123625Z
LAST-MODIFIED:20230503T121954Z
UID:51949-1689948000-1689951600@www.circleofwinewriters.org
SUMMARY:Let's talk about... An Update on Chianti Classico
DESCRIPTION:Let’s talk about… Chianti Classico \nThis talk will include an update on Chianti Classico’s new UGA (Unità Geografiche Aggiuntive) system which was introduced in 2022.   Full details to be sent out. \n 
URL:https://www.circleofwinewriters.org/event/lets-talk-about-chianti-classico/
ATTACH;FMTTYPE=image/jpeg:https://www.circleofwinewriters.org/wp-content/uploads/2023/03/ChiantiClassicologo-e1679997233592.jpg
ORGANIZER;CN="Circle of Wine Writers":MAILTO:administrator@circleofwinewriters.org
END:VEVENT
END:VCALENDAR