BEGIN:VCALENDAR
VERSION:2.0
PRODID:-//Circle of Wine Writers - ECPv6.3.5//NONSGML v1.0//EN
CALSCALE:GREGORIAN
METHOD:PUBLISH
X-WR-CALNAME:Circle of Wine Writers
X-ORIGINAL-URL:https://www.circleofwinewriters.org
X-WR-CALDESC:Events for Circle of Wine Writers
REFRESH-INTERVAL;VALUE=DURATION:PT1H
X-Robots-Tag:noindex
X-PUBLISHED-TTL:PT1H
BEGIN:VTIMEZONE
TZID:Europe/London
BEGIN:DAYLIGHT
TZOFFSETFROM:+0000
TZOFFSETTO:+0100
TZNAME:BST
DTSTART:20230326T010000
END:DAYLIGHT
BEGIN:STANDARD
TZOFFSETFROM:+0100
TZOFFSETTO:+0000
TZNAME:GMT
DTSTART:20231029T010000
END:STANDARD
END:VTIMEZONE
BEGIN:VEVENT
DTSTART;TZID=Europe/London:20231002T100000
DTEND;TZID=Europe/London:20231002T200000
DTSTAMP:20260419T213420
CREATED:20230927T094809Z
LAST-MODIFIED:20230927T094809Z
UID:52673-1696240800-1696276800@www.circleofwinewriters.org
SUMMARY:Volcanic Wines of the World tasting
DESCRIPTION:Still time to sign up\, if not already. \nThe new UK-based generic organisation Volcanic Wines of the World invites you to its inaugural tastings to empower the trade in volcanic wines globally\, and also offer an adventurous new event for consumers. \nA few highlights of the spectacular line-up\n-Some 40% of wines are new to the UK – from Tenerife\, Lanzarote\, Etna\, Veneto\, Campania\, Santorini & Greece mainland\, Oregon\, Mosel and more.\n-Meet the Makers – many visiting producers will fly in specially.\n-Masterclasses eg. Alchemy of Flavour – Ever tasted a tiramisu made with a vin santo?  Santorini v. mainland Greece\, and more.\n-Volcanic fruit\, veg\, cheese & wine pairings.\n-Rare volcanic chardonnays curated by World Chardonnay Day. \nVolcanic Wines of the World – Trade & Press Tasting\, 10am-4pm\nTrade & press registration HERE\nDynamic workshops and masterclasses from leading luminaries.\nUpdates on www.volcanicwinesoftheworld.org and on social media #VolcanicWinesoftheWorld #VWW2023 \nThe Trade & Press event will be followed by: \nVolcanic Wines of the World – Consumer showcase\, 5-8pm\nTaste fascinating wines from volcanic soils – Canary Islands\, Italy\, Greece\, US\, Germany and more.  Enjoy tasting masterclasses\, volcanic food & wine pairings\, and meet the winemaker opportunities.\nTickets £35 early bird\, to £50.\nAlso enjoy the spectacular volcano digital art show Savage Beauty by award-winning world wildlife photographer\, Joseph Anthony\, and other entertaining surprises.\nRegistration HERE \nFor further press information please contact direct\, Volcanic Wines of the World directors\nRobin Goldsmith MSc    rob@writetaste.co.uk     +44 (0)7941 044263\nFran Bridgewater FCIM  fran@drinksnetwork.com   +44 (0)7736 184124
URL:https://www.circleofwinewriters.org/event/volcanic-wines-of-the-world-tasting/
LOCATION:The National Liberal Club (David Lloyd George Room)\, One Whitehall Place\, London\, SW1A 2HE
ATTACH;FMTTYPE=image/jpeg:https://www.circleofwinewriters.org/wp-content/uploads/2023/09/calendarofeventsSuLinOngOct23while-the-earth-burns-national-geographic-award-winning-photography-by-joseph-anthony-hi-res-2-e1695806631283.jpg
ORGANIZER;CN="Su-Lin Ong":MAILTO:sulinong@slo-london.co.uk
END:VEVENT
BEGIN:VEVENT
DTSTART;TZID=Europe/London:20231003T170000
DTEND;TZID=Europe/London:20231003T180000
DTSTAMP:20260419T213420
CREATED:20230816T102713Z
LAST-MODIFIED:20230816T102713Z
UID:52488-1696352400-1696356000@www.circleofwinewriters.org
SUMMARY:Let's talk about... Beaujolais with Cameron Jones
DESCRIPTION:Let’s talk about… Beaujolais with Cameron Jones \nFull details to follow. \n 
URL:https://www.circleofwinewriters.org/event/lets-talk-about-beaujolais-with-cameron-jones/
ATTACH;FMTTYPE=image/png:https://www.circleofwinewriters.org/wp-content/uploads/2017/07/Screen-Shot-2017-07-14-at-18.35.45-e1500053738434.png
ORGANIZER;CN="Circle of Wine Writers":MAILTO:administrator@circleofwinewriters.org
END:VEVENT
BEGIN:VEVENT
DTSTART;TZID=Europe/London:20231004T100000
DTEND;TZID=Europe/London:20231004T160000
DTSTAMP:20260419T213420
CREATED:20230904T091952Z
LAST-MODIFIED:20230904T091952Z
UID:52585-1696413600-1696435200@www.circleofwinewriters.org
SUMMARY:Louis Latour Agencies' Journey through the Southern Hemisphere Portfolio Tasting
DESCRIPTION:Register here: tiny.cc/z0v8vz
URL:https://www.circleofwinewriters.org/event/louis-latour-agencies-journey-through-the-southern-hemisphere-portfolio-tasting/
LOCATION:ASIA House\, 63 New Cavendish Street\, London\, W1G 7LP
ATTACH;FMTTYPE=image/png:https://www.circleofwinewriters.org/wp-content/uploads/2023/09/calendarofeventsLouisLatour4thOct23.png
ORGANIZER;CN="Limm PR":MAILTO:kate@limmpr.com
END:VEVENT
BEGIN:VEVENT
DTSTART;TZID=Europe/London:20231006T190000
DTEND;TZID=Europe/London:20231006T220000
DTSTAMP:20260419T213420
CREATED:20230725T115842Z
LAST-MODIFIED:20230725T115842Z
UID:52382-1696618800-1696629600@www.circleofwinewriters.org
SUMMARY:Asador Etxebarri\, Spain exclusive winemaker dinner
DESCRIPTION:Crurated will host an exclusive winemaker dinner for 12 guests at one of the most celebrated restaurants\, Asador Etxebarri\, located in the Basque Region\, a global gastronomique center of the world. Meet the winemakers and taste a selection of wines from Pomerol’s La Conseillante and Champagne Pierre Péters. Guests will also enjoy a deliciously paired menu from Basque Chef Victor Arguinzoniz. \nPlease contact the organisers for availability\, they will reserve up to two seats at each event for the press and therefore they are subject to availability. \nAlso\, timings are approximate.
URL:https://www.circleofwinewriters.org/event/asador-etxebarri-spain-exclusive-winemaker-dinner/
LOCATION:Asador Etxebarri\, San Juan Plaza\, 1\, 48291 Axpe\, Bizkaia\, Spain
ATTACH;FMTTYPE=image/jpeg:https://www.circleofwinewriters.org/wp-content/uploads/2023/07/calendarofeventscrurated-winemaker-dinner-at-asador-etxebarri-october-6-2023-e1690279703477.jpeg
ORGANIZER;CN="Crurated Ltd":MAILTO:michaelvolpatt@gmail.com
END:VEVENT
BEGIN:VEVENT
DTSTART;TZID=Europe/London:20231010T103000
DTEND;TZID=Europe/London:20231010T163000
DTSTAMP:20260419T213420
CREATED:20230913T120255Z
LAST-MODIFIED:20230913T120255Z
UID:52628-1696933800-1696955400@www.circleofwinewriters.org
SUMMARY:Conegliano Valdobbiadene Prosecco Superiore DOCG trade & media tasting
DESCRIPTION:Conegliano Valdobbiadene Prosecco Superiore DOCG is a category that is an underexploited opportunity for the trade. Conegliano Valdobbiadene represents the historic area for Prosecco production and it is the most important source of premium Prosecco Superiore. As Champagne prices rise\, Prosecco Superiore offers an accessible alternative. The nuance and diversity of the finest wines of the region are waiting to be discovered by the UK market.\n\n\n\n\n\n\n\n\n\n\n\n  \nMeet 15 producers and taste the wines of Conegliano Valdobbiadene Prosecco Superiore DOCG in a walk around tasting and attend one of two Masterclasses hosted by Sarah Abbott MW: \n11.00 – 12.30: Artisanal producers of Conegliano Valdobbiadene Prosecco Superiore DOCG\nA masterclass exploring the wines of seven small growers over a wide range of styles\, including Sui Lieviti\, Extra Brut\, Brut\, Extra Dry and Dry. \n14.00-15.30: Rive and Cartizze: the terroirs of Conegliano Valdobbiadene Prosecco Superiore DOCG\nA masterclass exploring the soil and climatic zones of the region\, with wines from single vineyard Rive and Cartizze \nREGISTER TO ATTEND
URL:https://www.circleofwinewriters.org/event/conegliano-valdobbiadene-prosecco-superiore-docg-trade-media-tasting/
LOCATION:Icetank\, 5\, Grape Street\, London\, WC2H 8DW
ATTACH;FMTTYPE=image/jpeg:https://www.circleofwinewriters.org/wp-content/uploads/2023/09/calendarofeventsSwirl23-e1694606193823.jpg
ORGANIZER;CN="Swirl Wine Group":MAILTO:belinda@swirlwinegroup.com
END:VEVENT
BEGIN:VEVENT
DTSTART;TZID=Europe/London:20231011T100000
DTEND;TZID=Europe/London:20231011T160000
DTSTAMP:20260419T213420
CREATED:20230911T093849Z
LAST-MODIFIED:20230911T093849Z
UID:52608-1697018400-1697040000@www.circleofwinewriters.org
SUMMARY:Bordeaux Grands Crus Classés 2019-2022
DESCRIPTION:Join some of Bordeaux’s finest Grands Crus for a rare opportunity to taste 2019\, 2020\, 2021 and 2022 vintages. \nChâteau Branaire-Ducru\, Saint-Julien\nChâteau Canon\, Saint-Emilion\nChâteau Canon La Gaffelière\, Saint-Emilion\nChâteau Gazin\, Pomerol\nChâteau Guiraud\, Sauternes\nChâteau Léoville Poyferré\, Saint-Julien\nChâteau Montrose\, Saint-Estèphe\nChâteau Pontet-Canet\, Pauillac\nChâteau Rauzan-Ségla\, Margaux\nChâteau Smith Haut Lafitte\, Pessac-Léognan \nPlease register here by Friday 6th October: https://bgcc23.smartreg.co.uk/Visitors/Visitors/register \nAdmission to wine trade professionals and the press only
URL:https://www.circleofwinewriters.org/event/bordeaux-grands-crus-classes-2019-2022/
LOCATION:Church House\, Dean's Yard\, Westminster\, London\, SW1P 3NZ
ORGANIZER;CN="Otaria Communications":MAILTO:celine@otaria.co.uk
END:VEVENT
BEGIN:VEVENT
DTSTART;TZID=Europe/London:20231017T100000
DTEND;TZID=Europe/London:20231017T160000
DTSTAMP:20260419T213420
CREATED:20230725T091603Z
LAST-MODIFIED:20231009T094307Z
UID:52371-1697536800-1697558400@www.circleofwinewriters.org
SUMMARY:Neusiedlersee DAC x IWSC Austrian award-winners
DESCRIPTION:On behalf of the producers of Neusiedlersee DAC Spritz Marketing are delighted to invite you to a tasting of the most recent vintage releases on Tuesday 17 October. \nThey are collaborating with the IWSC who will be showcasing the recent gold and silver medal winning wines from the IWSC’s wine judging in Austria. \nPress and trade are invited to register to attend the event on Eventbrite.
URL:https://www.circleofwinewriters.org/event/neusiedlersee-dac-iwsc-austrian-award-winners/
LOCATION:Institute of Contemporary Art (Brandon & Nash room)\, accessed via 12 Carlton House Terrace\, London\, SW1Y 5AH
ATTACH;FMTTYPE=image/jpeg:https://www.circleofwinewriters.org/wp-content/uploads/2023/07/calendarofeventsNov23SpritzNeusiedlersee-e1696844546387.jpg
ORGANIZER;CN="Spritz Marketing":MAILTO:gemma@spritzmarketing.co.uk
END:VEVENT
BEGIN:VEVENT
DTSTART;TZID=Europe/London:20231017T170000
DTEND;TZID=Europe/London:20231017T180000
DTSTAMP:20260419T213420
CREATED:20230816T103006Z
LAST-MODIFIED:20231009T100132Z
UID:52490-1697562000-1697565600@www.circleofwinewriters.org
SUMMARY:Let's talk about... The wines of Tokaj\, with Agnes Herczeg and András Győrffy
DESCRIPTION:Let’s talk about… The wines of Tokaj\, with Agnes Herczeg and András Győrffy \nHungary’s renowned Tokaj wine region – is the subject of the Circle’s next online session. Our expert speakers Agnes and András will provide a general introduction covering such topics as grape varieties and wine styles\, then move on to current challenges\, including global warming and market changes\, and hot topics in the region\, from sustainability to sparkling wines. They will conclude with discussion of the Grand Tokaj company\, best known for its sweet Aszú wines. \nTogether\, they aim to celebrate the extraordinary world of Tokaji wines. \nTo join this seminar\, please register now or at any time before 5pm BST on Tuesday 17th October. The session\, including Q&As\, will last for approximately one hour. To register\, follow the link below. Guests will be very welcome\, but please let Andrea know their names. \nRegister in advance for this webinar:\nhttps://us06web.zoom.us/meeting/register/tZcsf-mtpzMiE9RgNiWjjdGXThDaqBLxUjKu \n  \n 
URL:https://www.circleofwinewriters.org/event/lets-talk-about-tokaj-with-andras-gyorffy/
ATTACH;FMTTYPE=image/jpeg:https://www.circleofwinewriters.org/wp-content/uploads/2023/08/LetsTalkTokaj1-e1696845591419.jpg
ORGANIZER;CN="Circle of Wine Writers":MAILTO:administrator@circleofwinewriters.org
END:VEVENT
BEGIN:VEVENT
DTSTART;TZID=Europe/London:20231026T103000
DTEND;TZID=Europe/London:20231026T170000
DTSTAMP:20260419T213420
CREATED:20230821T092728Z
LAST-MODIFIED:20230821T092728Z
UID:52504-1698316200-1698339600@www.circleofwinewriters.org
SUMMARY:Sud de France Top 100 Discovery Tasting
DESCRIPTION:All will be revealed for the new 11th edition of the Sud de France Top 100 best wines from Languedoc\, Roussillon & the South-West. Please come and meet visiting producers who will also show their extra choices to reflect the breadth of their production. \nRegistration is now open: www.suddefrancetop100.co.uk/discoveryshow \nNotably\, a rise in wines of £20 and over: 37% compared to 23% in 2022. \nAlso a surge in winning wines from co-operatives highlights the steady rise in quality in that sector: 22% in 2023 compared to 15% in 2022. \nNew this year\, our judges recognised many strong contenders for the top trophies and added a second tier of ‘wines of distinction’ after the trophy wines. \nTrade judges at the blind tasting this past July included senior buyers from Co-op\, Jeroboams\, Majestic Wine\, Marks & Spencer\, Tesco\, Waitrose\, and specialist retailers Ellis\, Jeroboams\, Tanners and Wine Society. \nPlease contact Su-Lin Ong for further details
URL:https://www.circleofwinewriters.org/event/sud-de-france-top-100-discovery-tasting/
LOCATION:The Royal College of Surgeons of England\, 38-43 Lincoln’s Inn Fields\, London\, WC2A 3PE
ATTACH;FMTTYPE=image/jpeg:https://www.circleofwinewriters.org/wp-content/uploads/2023/08/calendarofeventsSuddeFrancetop100_H_rvb.jpg
ORGANIZER;CN="Su-Lin Ong":MAILTO:sulinong@slo-london.co.uk
END:VEVENT
BEGIN:VEVENT
DTSTART;TZID=Europe/London:20231030T120000
DTEND;TZID=Europe/London:20231030T160000
DTSTAMP:20260419T213420
CREATED:20230905T094841Z
LAST-MODIFIED:20230905T094841Z
UID:52602-1698667200-1698681600@www.circleofwinewriters.org
SUMMARY:2023 D.O. Penedes – Focus on Xarel.lo Tasting
DESCRIPTION:At 11am guests will have the opportunity to attend a masterclass led by Álvaro Ribalta MW and Sarah Jane Evans MW\, titled “Unveiling the Essence of Xarel.lo”. This class will highlight some of the unique aspects of Xarel-lo and explore the diverse variety of wines it produces. Places for the masterlcass must be prebooked in advance. \nFrom 12 noon until 4pm the doors are open for pre-registered guests to enjoy a self-guided walk-round tasting featuring over 50 wines from around 20 wineries in the Penedès\, all made from varieties native to the region. Guests will meet winemakers and representatives who will answer questions and taste with you. \nThe DO Penedès is well-known for its long history of winemaking\, stretching back more than 2\,700 years. Despite this history\, the DO Penedès has managed to strike a balance between preserving their heritage and embracing modern innovations. This commitment to both old and new has given the region significant prestige and recognition within Spain and beyond. \nToday\, more than 60% of DO Penedès wines are organic and their goal is that by 2025\, all wines released as DO Penedès must be organic. \n#dopenedès \nPlease note that attendance at this tasting is restricted to bone fide members of the wine and hospitality industry. The event organisers reserve the right to deny admission or request evidence of professional qualifications. \nRegister here: https://www.eventbrite.co.uk/e/2023-do-penedes-focus-on-xarello-tasting-tickets-703314722267?aff=oddtdtcreator
URL:https://www.circleofwinewriters.org/event/2023-d-o-penedes-focus-on-xarel-lo-tasting/
LOCATION:ASIA House\, 63 New Cavendish Street\, London\, W1G 7LP
ATTACH;FMTTYPE=image/jpeg:https://www.circleofwinewriters.org/wp-content/uploads/2023/09/calendarofeventsLimmPRD.O.Penedes-e1693907080981.jpg
ORGANIZER;CN="Limm PR":MAILTO:kate@limmpr.com
END:VEVENT
END:VCALENDAR