BEGIN:VCALENDAR
VERSION:2.0
PRODID:-//Circle of Wine Writers - ECPv6.3.5//NONSGML v1.0//EN
CALSCALE:GREGORIAN
METHOD:PUBLISH
X-WR-CALNAME:Circle of Wine Writers
X-ORIGINAL-URL:https://www.circleofwinewriters.org
X-WR-CALDESC:Events for Circle of Wine Writers
REFRESH-INTERVAL;VALUE=DURATION:PT1H
X-Robots-Tag:noindex
X-PUBLISHED-TTL:PT1H
BEGIN:VTIMEZONE
TZID:Europe/London
BEGIN:DAYLIGHT
TZOFFSETFROM:+0000
TZOFFSETTO:+0100
TZNAME:BST
DTSTART:20240331T010000
END:DAYLIGHT
BEGIN:STANDARD
TZOFFSETFROM:+0100
TZOFFSETTO:+0000
TZNAME:GMT
DTSTART:20241027T010000
END:STANDARD
END:VTIMEZONE
BEGIN:VEVENT
DTSTART;TZID=Europe/London:20240201T100000
DTEND;TZID=Europe/London:20240201T170000
DTSTAMP:20260419T143746
CREATED:20231123T123707Z
LAST-MODIFIED:20231123T123707Z
UID:52852-1706781600-1706806800@www.circleofwinewriters.org
SUMMARY:VIN: a French Wine Tasting
DESCRIPTION:Business France invite you to VIN: a French Wine Tasting \nJoin us for the UK’s flagship French wine tasting event\, VIN! \nImmerse yourself in the world of French wine as producers guide you through their curated selection from every French wine region. There will be a mix of wines seeking representation & products that are already available on the UK market. VIN will be the opportunity to discover the unique characteristics of each wine and learn about the regional nuances. \n40+ producers will be on hand to guide you through a curated selection of reds\, whites\, and rosés\, and you will also be able to explore the latest in wine tech\, with a dedicated section showcasing the best that France has to offer in this emerging sector of the trade. \nThe tasting will also play host to the French Champion Awards\, recognising the contribution of key actors from the British trade in promoting French wines in the UK. \nThis is a trade-only event and all registrations are subject to approval by Business France UK. \nTo sign up to the event please register here: https://www.eventbrite.co.uk/e/vin-a-french-wine-tasting-tickets-699600242157?aff=email \nAlso\, do you know someone in the wine world who deserves to be named a 2024 French Champion? Put them forward! \n6 prizes are up for grabs:\n·         Best importer for France\n·         Best supermarket for France\n·         Best indie retailer for France\n·         Best online retailer for France\n·         Best voice for France\n·         Best restaurant for France \nYou can recommend up to 3 companies or people per category\, and join us at VIN 2024 on the 1st February for the awards ceremony to see who will take home the trophies. \nBy organising the French Champion Awards\, Business France is celebrating the role played by British companies in promoting and selling French wines in the UK. ‘Berets off’ to the people at the forefront of building\, selling and promoting a great French wine offering to the British public! \nYour nominations will be put to a panel of judges who will name the ultimate French Champions! \nPlease suggest your nominations here: les French Champions Awards
URL:https://www.circleofwinewriters.org/event/vin-a-french-wine-tasting/
LOCATION:Hyatt Regency London – The Churchill\, 30 Portman Square\, London\, W1H 7BH
ATTACH;FMTTYPE=image/jpeg:https://www.circleofwinewriters.org/wp-content/uploads/2023/11/calendarofeventsBusinessFranceVIN.jpg
ORGANIZER;CN="Business France":MAILTO:pandora.mistry@businessfrance.fr
END:VEVENT
BEGIN:VEVENT
DTSTART;TZID=Europe/London:20240201T120000
DTEND;TZID=Europe/London:20240201T170000
DTSTAMP:20260419T143746
CREATED:20231204T110018Z
LAST-MODIFIED:20231204T110018Z
UID:52925-1706788800-1706806800@www.circleofwinewriters.org
SUMMARY:Australia Trade Tasting 2024
DESCRIPTION:The Australia Trade Tasting returns to London and\, for the first time since 2020\, Edinburgh. Running for more than 30 years\, it’s the biggest\, brightest and most diverse showcase of Australian wine in the UK. \nDiscover new wines\, revisit the classics\, meet the makers and catch up with importers. There’ll be 56 exhibitor tables in London and 28 tables in Edinburgh\, with producers ranging from the international superstars to the small boutique newbies. \nExplore more than 700 wines in London and 300 wines in Edinburgh including: \n\nwines from more than 40 regions across Australia\nclassic and emerging varieties\nsparkling\, fortified and sweet wines\nalternative wines and new launches – low and no alcohol wines\, wine in cans\, and wines from celebrities\nwines from Sustainable Winegrowing Australia members\, and\nwines from exciting new producers seeking distribution in the UK.\n\nTaste crisp vibrant whites\, standout sparklings\, elegant reds and thrilling alternative varieties. From the rogue to the refined\, you’ll discover Australian wines that are far from ordinary. \nHead to our revamped digital platform\, Australian Wine Connect\, for more information about the event and to sign up at attend. Browse the wineries\, search by importer and connect with wineries seeking distribution in advance. The floorplan\, tasting booklet and list of visiting winemakers will be added in early January. \nDon’t forget to visit Australian Wine Discovered\, the hub for Australian wine education materials. Here you can download comprehensive guides\, editable powerpoint presentations\, maps\, tasting lists\, tasting mats and videos to use at events and in training sessions. \nIf you have any queries about the Australia Trade Tasting\, please contact us on uk@wineaustralia.com. \nFor more details and to register to attend\, please visit https://connect.australianwine.com/att2024. \n 
URL:https://www.circleofwinewriters.org/event/australia-trade-tasting-2024-2/
LOCATION:The Balmoral Hotel\, Princes Street\, Edinburgh\, EH2 2EQ
ATTACH;FMTTYPE=image/jpeg:https://www.circleofwinewriters.org/wp-content/uploads/2023/12/calendarofeventsAustralia24.jpg
ORGANIZER;CN="Wine Australia":MAILTO:Emma.Baumann@wineaustralia.com
END:VEVENT
BEGIN:VEVENT
DTSTART;TZID=Europe/London:20240206T170000
DTEND;TZID=Europe/London:20240206T180000
DTSTAMP:20260419T143746
CREATED:20240109T135855Z
LAST-MODIFIED:20240124T105226Z
UID:53243-1707238800-1707242400@www.circleofwinewriters.org
SUMMARY:CWW Let's talk about... Ice wine: its future in a changing climate\, with Michelle Bouffard and Professor Monika Christmann
DESCRIPTION:The next of the Circle’s 2024 season of Let’s talk about… online seminars will deal with one wine style which could now be particularly under threat. Our two speakers\, Michelle Bouffard and Professor Monika Christmann will discuss the topic from standpoints either side of the globe: Canada and Germany. As usual\, the seminar is on a Tuesday at 5pm UK time. If you can’t attend the live session it will be available to watch afterwards\, with its 90+ predecessors\, on the Circle’s YouTube channel (links in the members’ area of the website). \nTo join this seminar\, please register now or at any time before 5pm GMT on Tuesday 6th February. The session\, including Q&As\, will last for approximately one hour. To register\, follow the link below. Guests will be very welcome\, but please let Andrea know their names \nRegister in advance for this webinar: \nhttps://us06web.zoom.us/meeting/register/tZEvd-yqrTMvG9TwVA8J4CeHKsFVrFEDqGva  \nAfter registering\, you will receive a confirmation email containing information about joining the webinar.
URL:https://www.circleofwinewriters.org/event/cww-lets-talk-about-future-of-ice-wine-with-michelle-bouffard-monika-christmann/
ATTACH;FMTTYPE=image/png:https://www.circleofwinewriters.org/wp-content/uploads/2017/07/Screen-Shot-2017-07-14-at-18.35.45-e1500053738434.png
ORGANIZER;CN="Circle of Wine Writers":MAILTO:administrator@circleofwinewriters.org
END:VEVENT
BEGIN:VEVENT
DTSTART;TZID=Europe/London:20240220T170000
DTEND;TZID=Europe/London:20240220T180000
DTSTAMP:20260419T143746
CREATED:20240109T140659Z
LAST-MODIFIED:20240207T112906Z
UID:53247-1708448400-1708452000@www.circleofwinewriters.org
SUMMARY:CWW Let's talk about... Maconnais with Cameron Jones
DESCRIPTION:Let’s talk about… Discovering the wines of Burgundy’s Mâconnais region – from hidden gems to premier crus\, with Cameron Jones \nThe next of the Circle’s 2024 season of Let’s talk about… online seminars will focus on the southern Burgundy region of the Mâconnais. We’ll look at the numerous villages in the region\, the varying terroir and what makes some of these wines worth searching for. We’ll also look at the better-known region of Pouilly Fuissé\, including the new premier cru classifications introduced in 2020. If you can’t attend the live session it will be available to watch afterwards\, with its 90+ predecessors\, on the Circle’s YouTube channel (links in the members’ area of the website). \nTo join this seminar\, please register now or at any time before 5pm GMT on Tuesday 20th February. The session\, including Q&As\, will last for approximately one hour. To register\, follow the link below. Guests will be very welcome\, but please let Andrea know their names \nRegister in advance for this webinar: \nhttps://us06web.zoom.us/meeting/register/tZcsfuCuqDgoGNY15JfpTsU0Ds4XyOmc3Ve4 \nAfter registering\, you will receive a confirmation email containing information about joining the webinar.
URL:https://www.circleofwinewriters.org/event/cww-lets-talk-about-maconnais-with-cameron-jones/
ATTACH;FMTTYPE=image/jpeg:https://www.circleofwinewriters.org/wp-content/uploads/2024/01/LetsTalkCJones24-e1707305291299.jpg
ORGANIZER;CN="Circle of Wine Writers":MAILTO:administrator@circleofwinewriters.org
END:VEVENT
BEGIN:VEVENT
DTSTART;TZID=Europe/London:20240228T100000
DTEND;TZID=Europe/London:20240228T170000
DTSTAMP:20260419T143746
CREATED:20240109T103404Z
LAST-MODIFIED:20240109T103404Z
UID:53226-1709114400-1709139600@www.circleofwinewriters.org
SUMMARY:Mentzendorff Portfolio Tasting - 2024
DESCRIPTION:  \n \nPlease note The Portfolio Tasting website has all the masterclass information\, event schedule and to details of how to register: https://mentzportfoliotasting.online-rsvp.com
URL:https://www.circleofwinewriters.org/event/mentzendorff-portfolio-tasting-2024/
LOCATION:One Great George Street\, London\, SW1P 3AA
ATTACH;FMTTYPE=image/jpeg:https://www.circleofwinewriters.org/wp-content/uploads/2024/01/Mentzendorff-Logo-3.jpg
ORGANIZER;CN="Mentzendorff & Co Ltd":MAILTO:AnnaW@mentzendorff.co.uk
END:VEVENT
END:VCALENDAR